BEGIN:VCALENDAR
VERSION:2.0
PRODID:-//USCIB - ECPv5.2.1.1//NONSGML v1.0//EN
CALSCALE:GREGORIAN
METHOD:PUBLISH
X-WR-CALNAME:USCIB
X-ORIGINAL-URL:https://www.uscib.org
X-WR-CALDESC:Events for USCIB
BEGIN:VTIMEZONE
TZID:Europe/Paris
BEGIN:DAYLIGHT
TZOFFSETFROM:+0100
TZOFFSETTO:+0200
TZNAME:CEST
DTSTART:20160327T010000
END:DAYLIGHT
BEGIN:STANDARD
TZOFFSETFROM:+0200
TZOFFSETTO:+0100
TZNAME:CET
DTSTART:20161030T010000
END:STANDARD
END:VTIMEZONE
BEGIN:VEVENT
DTSTART;VALUE=DATE:20160531
DTEND;VALUE=DATE:20160602
DTSTAMP:20210813T143030
CREATED:20160216T230148Z
LAST-MODIFIED:20160516T210910Z
UID:19134-1464652800-1464825599@www.uscib.org
SUMMARY:OECD Forum
DESCRIPTION:Held in Paris every year to coincide with the OECD Ministerial Council Meeting\, the OECD Forum has emerged as a major international conference. Leaders and influencers from all sectors of civil society—former and current heads of state and government\, CEOs\, leaders of key NGOs and trade unions and prominent members of academia and media—gather to debate the most pressing social and economic challenges confronting society.
URL:https://www.uscib.org/event/oecd-forum-2/
LOCATION:OECD Conference Centre\, 2\, rue André Pascal\, Paris\, 75775\, France
ATTACH;FMTTYPE=image/jpeg:https://www.uscib.org/uscib-content/uploads/2015/06/oecd_284x284.jpg
ORGANIZER;CN="Elizabeth%20Kim":MAILTO:ekim@uscib.org
END:VEVENT
END:VCALENDAR