BEGIN:VCALENDAR
VERSION:2.0
PRODID:-//USCIB - ECPv5.2.1.1//NONSGML v1.0//EN
CALSCALE:GREGORIAN
METHOD:PUBLISH
X-WR-CALNAME:USCIB
X-ORIGINAL-URL:https://www.uscib.org
X-WR-CALDESC:Events for USCIB
BEGIN:VTIMEZONE
TZID:America/Mexico_City
BEGIN:DAYLIGHT
TZOFFSETFROM:-0600
TZOFFSETTO:-0500
TZNAME:CDT
DTSTART:20160403T080000
END:DAYLIGHT
BEGIN:STANDARD
TZOFFSETFROM:-0500
TZOFFSETTO:-0600
TZNAME:CST
DTSTART:20161030T070000
END:STANDARD
END:VTIMEZONE
BEGIN:VEVENT
DTSTART;VALUE=DATE:20160621
DTEND;VALUE=DATE:20160624
DTSTAMP:20210813T143056
CREATED:20160216T231253Z
LAST-MODIFIED:20160516T210832Z
UID:19139-1466467200-1466726399@www.uscib.org
SUMMARY:OECD Ministerial Meeting on Digital Economy: Innovation\, Growth and Social Prosperity
DESCRIPTION:Ministers and stakeholders will meet for the OECD Ministerial Meeting on the Digital Economy: Innovation\, Growth and Social Prosperity\, to move the digital agenda forward in four key policy areas foundational to the growth of the digital economy: Internet openness and innovation\, building global connectivity\, trust in the digital economy\, and jobs and skills in the digital economy. The 2016 Ministerial meeting will build on previous OECD Ministerial meetings on the digital economy – the 1998 OECD Ministerial Conference on Electronic Commerce in Ottawa and the 2008 Ministerial Meeting on the Future of the Internet Economy in Seoul.
URL:https://www.uscib.org/event/oecd-ministerial-meeting-on-digital-economy-innovation-growth-and-social-prosperity/
LOCATION:Unnamed Venue\, Cancún\, Mexico
ATTACH;FMTTYPE=image/jpeg:https://www.uscib.org/uscib-content/uploads/2015/06/oecd_284x284.jpg
ORGANIZER;CN="Elizabeth%20Kim":MAILTO:ekim@uscib.org
END:VEVENT
END:VCALENDAR