BEGIN:VCALENDAR
VERSION:2.0
PRODID:-//USCIB - ECPv5.2.1.1//NONSGML v1.0//EN
CALSCALE:GREGORIAN
METHOD:PUBLISH
X-WR-CALNAME:USCIB
X-ORIGINAL-URL:https://www.uscib.org
X-WR-CALDESC:Events for USCIB
BEGIN:VTIMEZONE
TZID:America/New_York
BEGIN:DAYLIGHT
TZOFFSETFROM:-0500
TZOFFSETTO:-0400
TZNAME:EDT
DTSTART:20160313T070000
END:DAYLIGHT
BEGIN:STANDARD
TZOFFSETFROM:-0400
TZOFFSETTO:-0500
TZNAME:EST
DTSTART:20161106T060000
END:STANDARD
END:VTIMEZONE
BEGIN:VEVENT
DTSTART;VALUE=DATE:20160316
DTEND;VALUE=DATE:20160317
DTSTAMP:20210813T143410
CREATED:20160222T185135Z
LAST-MODIFIED:20160222T185135Z
UID:19186-1458086400-1458172799@www.uscib.org
SUMMARY:USCIB ICT Policy Committee Meeting
DESCRIPTION:Quarterly Meeting of the USCIB ICT Policy Committee
URL:https://www.uscib.org/event/uscib-ict-policy-committee-meeting-2/
LOCATION:AT&T\, 1120 20th Street\, NW\, North Lobby Lafayette Center Building 1\, 4th Floor Board Room\, Washington\, DC\, 20036\, United States
ATTACH;FMTTYPE=image/png:https://www.uscib.org/uscib-content/uploads/2015/08/uscib_favicon_retina.png
ORGANIZER;CN="Erin%20Breitenbucher":MAILTO:ebreitenbucher@uscib.org
END:VEVENT
END:VCALENDAR